BEGIN:VCALENDAR
PRODID:-//kirchenweb.ch gmbh//veranstaltungsausgabe v2.0//DE
VERSION:2.0
METHOD:PUBLISH
BEGIN:VEVENT
DTSTART:20260424T170000Z
DTEND:20260424T180000Z
LOCATION:Kirche Reichenbach\, Bälliz 34\, 3713 Reichenbach
TRANSP:OPAQUE
SEQUENCE:0
UID:3075-veranstaltung@kirche-reichenbach.ch
DTSTAMP:20260421T112021Z
DESCRIPTION:Bach Tour im Berner Oberland\nOrgelwerke von J.S. Bach\nEs
  spielt und erläutert:\nProf. Dr. Helmut Freitag\n\nIn der Kirche
  erklingt ein eigens abgestimmtes ca. einstündiges Programm mit
  abwechslungsreichen Beispielen aus dem unerschöpflichen Fundus des wohl
  grössten Kirchenmusikers aller Zeiten\, J. S. Bach.\n\nKontakt: Markus
  Lemp\n\nWeitere Infos:
  https://www.kirche-reichenbach.ch/veranstaltung/3075
SUMMARY:Orgelkonzert mit Prof. Dr. Helmut Freitag
PRIORITY:5
X-MICROSOFT-CDO-IMPORTANCE:1
CLASS:PUBLIC
END:VEVENT
END:VCALENDAR
