BEGIN:VCALENDAR
PRODID:-//kirchenweb.ch gmbh//veranstaltungsausgabe v2.0//DE
VERSION:2.0
METHOD:PUBLISH
BEGIN:VEVENT
DTSTART:20260428T170000Z
DTEND:20260428T193000Z
LOCATION:Kirchgemeindehaus\, Faltschenstrasse 1\, 3713 Reichenbach
TRANSP:OPAQUE
SEQUENCE:0
UID:3043-veranstaltung@kirche-reichenbach.ch
DTSTAMP:20260407T085458Z
DESCRIPTION:Kontakt: Christine Heimoz\n\nWeitere Infos:
  https://www.kirche-reichenbach.ch/veranstaltung/3043
SUMMARY:Kirchenkino
PRIORITY:5
X-MICROSOFT-CDO-IMPORTANCE:1
CLASS:PUBLIC
END:VEVENT
END:VCALENDAR
