BEGIN:VCALENDAR
PRODID:-//kirchenweb.ch gmbh//veranstaltungsausgabe v2.0//DE
VERSION:2.0
METHOD:PUBLISH
BEGIN:VEVENT
DTSTART:20260113T183000Z
DTEND:20260113T193000Z
LOCATION:Kirche Reichenbach\, Bälliz 34\, 3713 Reichenbach
TRANSP:OPAQUE
SEQUENCE:0
UID:3014-veranstaltung@kirche-reichenbach.ch
DTSTAMP:20251216T140633Z
DESCRIPTION:Kontakt: Ferdinand Hostettler\n\nWeitere Infos:
  https://www.kirche-reichenbach.ch/veranstaltung/3014
SUMMARY:Gebetstreff
PRIORITY:5
X-MICROSOFT-CDO-IMPORTANCE:1
CLASS:PUBLIC
END:VEVENT
END:VCALENDAR
