BEGIN:VCALENDAR
PRODID:-//kirchenweb.ch gmbh//veranstaltungsausgabe v2.0//DE
VERSION:2.0
METHOD:PUBLISH
BEGIN:VEVENT
DTSTART:20260911T140000Z
DTEND:20260911T150000Z
LOCATION:Kirche Reichenbach\, Bälliz 34\, 3713 Reichenbach
TRANSP:OPAQUE
SEQUENCE:0
UID:2968-veranstaltung@kirche-reichenbach.ch
DTSTAMP:20251125T152448Z
DESCRIPTION:Ein kurzer Gottesdienst für 3- bis 5-jährige Kinder mit
  ihren Geschwistern\,  Eltern\, Grosseltern\, Gotte und Götti. \nEin
  generationenverbindendes Feiern mit Geschichten\, Liedern und Gebeten. \n
 \nAnschliessend basteln und Zvieri.\n\n\nKontakt: Felix Müller\n\nWeitere
  Infos: https://www.kirche-reichenbach.ch/veranstaltung/2968
SUMMARY:Fiire mit de Chliine
PRIORITY:5
X-MICROSOFT-CDO-IMPORTANCE:1
CLASS:PUBLIC
END:VEVENT
END:VCALENDAR
