BEGIN:VCALENDAR
PRODID:-//kirchenweb.ch gmbh//veranstaltungsausgabe v2.0//DE
VERSION:2.0
METHOD:PUBLISH
BEGIN:VEVENT
DTSTART:20260524T080000Z
DTEND:20260524T090000Z
LOCATION:Kapelle Kiental\, Rossistrasse 10\, 3723 Kiental
TRANSP:OPAQUE
SEQUENCE:0
UID:2950-veranstaltung@kirche-reichenbach.ch
DTSTAMP:20260324T143836Z
DESCRIPTION:Pfrn. Nicole Staudenmann\,\nYullia Kutsenko\, Orgel\n
 \nKontakt: Nicole Staudenmann\n\nWeitere Infos:
  https://www.kirche-reichenbach.ch/veranstaltung/2950
SUMMARY:Pfingstgottesdienst mit Abendmahl und Einsegnung
PRIORITY:5
X-MICROSOFT-CDO-IMPORTANCE:1
CLASS:PUBLIC
END:VEVENT
END:VCALENDAR
