BEGIN:VCALENDAR
PRODID:-//kirchenweb.ch gmbh//veranstaltungsausgabe v2.0//DE
VERSION:2.0
METHOD:PUBLISH
BEGIN:VEVENT
DTSTART:20260517T080000Z
DTEND:20260517T090000Z
LOCATION:Kirche Reichenbach\, Bälliz 34\, 3713 Reichenbach
TRANSP:OPAQUE
SEQUENCE:0
UID:2948-veranstaltung@kirche-reichenbach.ch
DTSTAMP:20251223T105402Z
DESCRIPTION:Christine Heimoz\, Katechetin\,\nPfr. Markus Lemp\,\nUeli
  Steiner\, Orgel\n\nKontakt: Christine Heimoz\nMarkus Lemp\n\nWeitere
  Infos: https://www.kirche-reichenbach.ch/veranstaltung/2948
SUMMARY:Konfirmation
PRIORITY:5
X-MICROSOFT-CDO-IMPORTANCE:1
CLASS:PUBLIC
END:VEVENT
END:VCALENDAR
