BEGIN:VCALENDAR
PRODID:-//kirchenweb.ch gmbh//veranstaltungsausgabe v2.0//DE
VERSION:2.0
METHOD:PUBLISH
BEGIN:VEVENT
DTSTART:20260514T070000Z
DTEND:20260514T083000Z
LOCATION:Kirche Reichenbach\, Bälliz 34\, 3713 Reichenbach
TRANSP:OPAQUE
SEQUENCE:0
UID:2946-veranstaltung@kirche-reichenbach.ch
DTSTAMP:20251223T105322Z
DESCRIPTION:Pfr. Markus Lemp\,\nChristine Heimoz\, Katechetin\,\nUeli
  Steiner\, Orgel\n\nKontakt: Markus Lemp\nChristine Heimoz\n\nWeitere
  Infos: https://www.kirche-reichenbach.ch/veranstaltung/2946
SUMMARY:Konfirmation
PRIORITY:5
X-MICROSOFT-CDO-IMPORTANCE:1
CLASS:PUBLIC
END:VEVENT
END:VCALENDAR
