BEGIN:VCALENDAR
PRODID:-//kirchenweb.ch gmbh//veranstaltungsausgabe v2.0//DE
VERSION:2.0
METHOD:PUBLISH
BEGIN:VEVENT
DTSTART:20260510T080000Z
DTEND:20260510T090000Z
LOCATION:Kapelle Kiental\, Rossistrasse 10\, 3723 Kiental
TRANSP:OPAQUE
SEQUENCE:0
UID:2945-veranstaltung@kirche-reichenbach.ch
DTSTAMP:20260324T143122Z
DESCRIPTION:Pfr. Felix Müller\,\nChristine Amstutz\, Orgel\,\nMarc
  Kambly\, Gitarre und Gesang\n\n\nKontakt: Felix Müller\n\nWeitere Infos:
  https://www.kirche-reichenbach.ch/veranstaltung/2945
SUMMARY:Gottesdienst zum Muttertag mit Taufe
PRIORITY:5
X-MICROSOFT-CDO-IMPORTANCE:1
CLASS:PUBLIC
END:VEVENT
END:VCALENDAR
