BEGIN:VCALENDAR
PRODID:-//kirchenweb.ch gmbh//veranstaltungsausgabe v2.0//DE
VERSION:2.0
METHOD:PUBLISH
BEGIN:VEVENT
DTSTART:20260503T080000Z
DTEND:20260503T090000Z
LOCATION:Kirche Reichenbach\, Bälliz 34\, 3713 Reichenbach
TRANSP:OPAQUE
SEQUENCE:0
UID:2944-veranstaltung@kirche-reichenbach.ch
DTSTAMP:20251223T105214Z
DESCRIPTION:Pfrn. Nicole Staudenmann\,\nPfr. Markus Lemp\,\nSandra Rolli\,
  Orgel\n\nKontakt: Nicole Staudenmann\nMarkus Lemp\n\nWeitere Infos:
  https://www.kirche-reichenbach.ch/veranstaltung/2944
SUMMARY:Gottesdienst anschl. Freiwilligenmittagessen
PRIORITY:5
X-MICROSOFT-CDO-IMPORTANCE:1
CLASS:PUBLIC
END:VEVENT
END:VCALENDAR
