BEGIN:VCALENDAR
PRODID:-//kirchenweb.ch gmbh//veranstaltungsausgabe v2.0//DE
VERSION:2.0
METHOD:PUBLISH
BEGIN:VEVENT
DTSTART:20260426T080000Z
DTEND:20260426T090000Z
LOCATION:Kirche Reichenbach\, Bälliz 34\, 3713 Reichenbach
TRANSP:OPAQUE
SEQUENCE:0
UID:2943-veranstaltung@kirche-reichenbach.ch
DTSTAMP:20251223T105154Z
DESCRIPTION:Pfr. Markus Lemp\,\nUeli Steiner\, Orgel\n\n\n\nKontakt:
  Markus Lemp\n\nWeitere Infos:
  https://www.kirche-reichenbach.ch/veranstaltung/2943
SUMMARY:Gottesdienst
PRIORITY:5
X-MICROSOFT-CDO-IMPORTANCE:1
CLASS:PUBLIC
END:VEVENT
END:VCALENDAR
