BEGIN:VCALENDAR
PRODID:-//kirchenweb.ch gmbh//veranstaltungsausgabe v2.0//DE
VERSION:2.0
METHOD:PUBLISH
BEGIN:VEVENT
DTSTART:20260603T120000Z
DTEND:20260603T140000Z
LOCATION:bei der Kirche\, \, 3713 Reichenbach
TRANSP:OPAQUE
SEQUENCE:0
UID:2908-veranstaltung@kirche-reichenbach.ch
DTSTAMP:20251118T105347Z
DESCRIPTION:Treffpunkt: 14.00 Uhr bei der Kirche\n\nKontakt: Nicole
  Staudenmann\n\nWeitere Infos:
  https://www.kirche-reichenbach.ch/veranstaltung/2908
SUMMARY:Kaffee und Kuchen
PRIORITY:5
X-MICROSOFT-CDO-IMPORTANCE:1
CLASS:PUBLIC
END:VEVENT
END:VCALENDAR
