BEGIN:VCALENDAR
PRODID:-//kirchenweb.ch gmbh//veranstaltungsausgabe v2.0//DE
VERSION:2.0
METHOD:PUBLISH
BEGIN:VEVENT
DTSTART:20260520T113000Z
DTEND:20260520T123000Z
LOCATION:Märitplatz\, \, 3713 Reichenbach
TRANSP:OPAQUE
SEQUENCE:0
UID:2828-veranstaltung@kirche-reichenbach.ch
DTSTAMP:20260331T135746Z
DESCRIPTION:Kontakt: Markus Lemp\n\nWeitere Infos:
  https://www.kirche-reichenbach.ch/veranstaltung/2828
SUMMARY:AHV-Dorfet Ausflug Guggisberg
PRIORITY:5
X-MICROSOFT-CDO-IMPORTANCE:1
CLASS:PUBLIC
END:VEVENT
END:VCALENDAR
