BEGIN:VCALENDAR
PRODID:-//kirchenweb.ch gmbh//veranstaltungsausgabe v2.0//DE
VERSION:2.0
METHOD:PUBLISH
BEGIN:VEVENT
DTSTART:20250310T183000Z
DTEND:20250310T210000Z
LOCATION:Kirchgemeindehaus\, Faltschenstrasse 1\, 3713 Reichenbach
TRANSP:OPAQUE
SEQUENCE:0
UID:2734-veranstaltung@kirche-reichenbach.ch
DTSTAMP:20251216T141148Z
DESCRIPTION:Megatrend Wissenskultur: Mark Pollmeier\, Redaktor
  „Frutigländer“ referiert zur Entwicklung seiner Arbeit im Zeitalter
  der Sozialen Medien\, Digitalisierung und Künstlichen Intelligenz.
  Welchen Geltungsanspruch haben Wissen\, Fakten und Wahrheit (noch)?
  Anschliessend Diskussion und gemütliches Beisammensein.\n\n\nKontakt:
  Felix Müller\n\nWeitere Infos:
  https://www.kirche-reichenbach.ch/veranstaltung/2734
SUMMARY:Mannegruppe
PRIORITY:5
X-MICROSOFT-CDO-IMPORTANCE:1
CLASS:PUBLIC
END:VEVENT
END:VCALENDAR
