BEGIN:VCALENDAR
PRODID:-//kirchenweb.ch gmbh//veranstaltungsausgabe v2.0//DE
VERSION:2.0
METHOD:PUBLISH
BEGIN:VEVENT
DTSTART:20251213T123000Z
DTEND:20251213T170000Z
LOCATION:Kirchgemeindehaus\, Faltschenstrasse 1\, 3713 Reichenbach
TRANSP:OPAQUE
SEQUENCE:0
UID:2733-veranstaltung@kirche-reichenbach.ch
DTSTAMP:20250206T093253Z
DESCRIPTION:Wir gestalten ein Adventsfenster im\nKirchgemeindehaus\,
  güezele\, basteln\, singen und spielen.\nUm 17.00 Uhr sind die Eltern\,
  Geschwister und Verwandten\nherzlich eingeladen\, das Adventsfenster zu
  bewundern.\n\nMit Priska Mürner und Vorbereitungsteam\n\n\nKontakt:
  Priska Mürner\n\nWeitere Infos:
  https://www.kirche-reichenbach.ch/veranstaltung/2733
SUMMARY:KiK - Kinderkirche Adventsfenster
PRIORITY:5
X-MICROSOFT-CDO-IMPORTANCE:1
CLASS:PUBLIC
END:VEVENT
END:VCALENDAR
