BEGIN:VCALENDAR
PRODID:-//kirchenweb.ch gmbh//veranstaltungsausgabe v2.0//DE
VERSION:2.0
METHOD:PUBLISH
BEGIN:VEVENT
DTSTART:20250315T103000Z
DTEND:20250315T123000Z
LOCATION:Kirchgemeindehaus\, Faltschenstrasse 1\, 3713 Reichenbach
TRANSP:OPAQUE
SEQUENCE:0
UID:2728-veranstaltung@kirche-reichenbach.ch
DTSTAMP:20260127T122132Z
DESCRIPTION:Kontakt: Nicole Staudenmann\n\nWeitere Infos:
  https://www.kirche-reichenbach.ch/veranstaltung/2728
SUMMARY:Suppentag
PRIORITY:5
X-MICROSOFT-CDO-IMPORTANCE:1
CLASS:PUBLIC
END:VEVENT
END:VCALENDAR
