BEGIN:VCALENDAR
PRODID:-//kirchenweb.ch gmbh//veranstaltungsausgabe v2.0//DE
VERSION:2.0
METHOD:PUBLISH
BEGIN:VEVENT
DTSTART:20250409T120000Z
DTEND:20250409T140000Z
LOCATION:Kirchgemeindehaus\, Faltschenstrasse 1\, 3713 Reichenbach
TRANSP:OPAQUE
SEQUENCE:0
UID:2725-veranstaltung@kirche-reichenbach.ch
DTSTAMP:20250227T073901Z
DESCRIPTION:"Geschichten die das Leben schrieb" mit Pfrn. Nicole
  Staudenmann.\nEingeladen sind alle alleinstehenden Frauen und Männer
  unserer Kirchgemeinde.\nAnmeldung bis am Montag vor dem Anlass bei Amalia
  Hari: Tel. 033 676 25 59\n\nKontakt: Markus Lemp\n\nWeitere Infos:
  https://www.kirche-reichenbach.ch/veranstaltung/2725
SUMMARY:Alleinstehendentreff
PRIORITY:5
X-MICROSOFT-CDO-IMPORTANCE:1
CLASS:PUBLIC
END:VEVENT
END:VCALENDAR
