BEGIN:VCALENDAR
PRODID:-//kirchenweb.ch gmbh//veranstaltungsausgabe v2.0//DE
VERSION:2.0
METHOD:PUBLISH
BEGIN:VEVENT
DTSTART:20250427T080000Z
DTEND:20250427T090000Z
LOCATION:Kirche Reichenbach\, Bälliz 34\, 3713 Reichenbach
TRANSP:OPAQUE
SEQUENCE:0
UID:2664-veranstaltung@kirche-reichenbach.ch
DTSTAMP:20251125T144739Z
DESCRIPTION:Pfr. Felix Müller\,\nUeli Steiner\, Orgel\n\nKontakt: Felix
  Müller\n\nWeitere Infos:
  https://www.kirche-reichenbach.ch/veranstaltung/2664
SUMMARY:Gottesdienst
PRIORITY:5
X-MICROSOFT-CDO-IMPORTANCE:1
CLASS:PUBLIC
END:VEVENT
END:VCALENDAR
