BEGIN:VCALENDAR
PRODID:-//kirchenweb.ch gmbh//veranstaltungsausgabe v2.0//DE
VERSION:2.0
METHOD:PUBLISH
BEGIN:VEVENT
DTSTART:20250420T040000Z
DTEND:20250420T070000Z
LOCATION:Kirche Reichenbach\, Bälliz 34\, 3713 Reichenbach
TRANSP:OPAQUE
SEQUENCE:0
UID:2662-veranstaltung@kirche-reichenbach.ch
DTSTAMP:20251125T144534Z
DESCRIPTION:Osterfrühfeier beim Osterfeuer und in der Kirche \nPfr.
  Markus Lemp\, Martha Barben\, Franziska Bettschen\, Christine Bhend\,
  Anita und Daniel Blaser\, Jeannette Pignolet\, Martin Rubin\, Stephan
  Weissmüller\, Bläserquartett unter der Leitung von Hans Roth.
 \nAnschliessend Frühstück mit „Eiertütsche“ im Kirchgemeindehaus ab
  7.30 Uhr.\n\n\nKontakt: Markus Lemp\n\nWeitere Infos:
  https://www.kirche-reichenbach.ch/veranstaltung/2662
SUMMARY:Osterfrühfeier
PRIORITY:5
X-MICROSOFT-CDO-IMPORTANCE:1
CLASS:PUBLIC
END:VEVENT
END:VCALENDAR
