BEGIN:VCALENDAR
PRODID:-//kirchenweb.ch gmbh//veranstaltungsausgabe v2.0//DE
VERSION:2.0
METHOD:PUBLISH
BEGIN:VEVENT
DTSTART:20250413T080000Z
DTEND:20250413T090000Z
LOCATION:Kirche Reichenbach\, Bälliz 34\, 3713 Reichenbach
TRANSP:OPAQUE
SEQUENCE:0
UID:2660-veranstaltung@kirche-reichenbach.ch
DTSTAMP:20251125T144253Z
DESCRIPTION:Pfrn. Nicole Staudenmann\,\nGabriella Toth\, Orgel\,\nDejan
  Skundric\, Akkordeon\n\nKontakt: Nicole Staudenmann\n\nWeitere Infos:
  https://www.kirche-reichenbach.ch/veranstaltung/2660
SUMMARY:Gottesdienst mit Taufe und Feier der Goldenen Konfirmation
PRIORITY:5
X-MICROSOFT-CDO-IMPORTANCE:1
CLASS:PUBLIC
END:VEVENT
END:VCALENDAR
