BEGIN:VCALENDAR
PRODID:-//kirchenweb.ch gmbh//veranstaltungsausgabe v2.0//DE
VERSION:2.0
METHOD:PUBLISH
BEGIN:VEVENT
DTSTART:20250417T061500Z
DTEND:20250417T070000Z
LOCATION:vor der Kirche Reichenbach\, Bälliz 34\, 3713 Reichenbach
TRANSP:OPAQUE
SEQUENCE:0
UID:2627-veranstaltung@kirche-reichenbach.ch
DTSTAMP:20250603T112533Z
DESCRIPTION:Treffpunkt: vor der Kirche Reichenbach\n\nKontakt: Petra
  Zurbrügg\n\nWeitere Infos:
  https://www.kirche-reichenbach.ch/veranstaltung/2627
SUMMARY:Walk and talk
PRIORITY:5
X-MICROSOFT-CDO-IMPORTANCE:1
CLASS:PUBLIC
END:VEVENT
END:VCALENDAR
