BEGIN:VCALENDAR
PRODID:-//kirchenweb.ch gmbh//veranstaltungsausgabe v2.0//DE
VERSION:2.0
METHOD:PUBLISH
BEGIN:VEVENT
DTSTART:20250320T081500Z
DTEND:20250320T090000Z
LOCATION:Faltschenpintli\, Geissbodenstrasse 66\, 3713 Reichenbach
TRANSP:OPAQUE
SEQUENCE:0
UID:2624-veranstaltung@kirche-reichenbach.ch
DTSTAMP:20241203T140938Z
DESCRIPTION:Treffpunkt: beim Faltschenpintli\n\n\n\nKontakt: Petra
  Zurbrügg\n\nWeitere Infos:
  https://www.kirche-reichenbach.ch/veranstaltung/2624
SUMMARY:Walk and talk
PRIORITY:5
X-MICROSOFT-CDO-IMPORTANCE:1
CLASS:PUBLIC
END:VEVENT
END:VCALENDAR
