BEGIN:VCALENDAR
PRODID:-//kirchenweb.ch gmbh//veranstaltungsausgabe v2.0//DE
VERSION:2.0
METHOD:PUBLISH
BEGIN:VEVENT
DTSTART:20250326T130000Z
DTEND:20250326T160000Z
LOCATION:Kirchgemeindehaus\, Faltschenstrasse 1\, 3713 Reichenbach
TRANSP:OPAQUE
SEQUENCE:0
UID:2469-veranstaltung@kirche-reichenbach.ch
DTSTAMP:20240627T073308Z
DESCRIPTION:Kantonspolizei Bern\,\nSchockanrufe\n\nKontakt: Markus Lemp\n
 \nWeitere Infos: https://www.kirche-reichenbach.ch/veranstaltung/2469
SUMMARY:AHV-Dorfet
PRIORITY:5
X-MICROSOFT-CDO-IMPORTANCE:1
CLASS:PUBLIC
END:VEVENT
END:VCALENDAR
